BEGIN:VCALENDAR
VERSION:2.0
PRODID:-//pretix//pretix.eu//
BEGIN:VTIMEZONE
TZID:Europe/Berlin
BEGIN:STANDARD
DTSTART:20001029T040000
RRULE:FREQ=YEARLY;BYDAY=-1SU;BYMONTH=10
TZNAME:CET
TZOFFSETFROM:+0200
TZOFFSETTO:+0100
END:STANDARD
BEGIN:DAYLIGHT
DTSTART:20000326T030000
RRULE:FREQ=YEARLY;BYDAY=-1SU;BYMONTH=3
TZNAME:CEST
TZOFFSETFROM:+0100
TZOFFSETTO:+0200
END:DAYLIGHT
END:VTIMEZONE
BEGIN:VEVENT
UID:pretix-spektakel-jlzfz-0@tickets.spektakel-kollektiv.de
DTSTART;TZID=Europe/Berlin:20260718T100000
DTEND;TZID=Europe/Berlin:20260718T140000
DESCRIPTION:Tickets: https://tickets.spektakel-kollektiv.de/jlzfz/\nVeranst
 alter: Spektakel Kollektiv
DTSTAMP:20260420T004141Z
LOCATION:Alte Lackiererei (Eingang F)\, Garagen-Campus\, Zwickauer Str. 164
 \, 09116 Chemnitz
SUMMARY:Spektakel Schreibworkshop: Prosa mit Martina Hefter
END:VEVENT
END:VCALENDAR
